BEGIN:VCALENDAR
VERSION:2.0
PRODID:-// - ECPv6.15.20//NONSGML v1.0//EN
CALSCALE:GREGORIAN
METHOD:PUBLISH
X-ORIGINAL-URL:https://www.vantaalla.info
X-WR-CALDESC:Tapahtumat 
REFRESH-INTERVAL;VALUE=DURATION:PT1H
X-Robots-Tag:noindex
X-PUBLISHED-TTL:PT1H
BEGIN:VTIMEZONE
TZID:Europe/Helsinki
BEGIN:DAYLIGHT
TZOFFSETFROM:+0200
TZOFFSETTO:+0300
TZNAME:EEST
DTSTART:20230326T010000
END:DAYLIGHT
BEGIN:STANDARD
TZOFFSETFROM:+0300
TZOFFSETTO:+0200
TZNAME:EET
DTSTART:20231029T010000
END:STANDARD
BEGIN:DAYLIGHT
TZOFFSETFROM:+0200
TZOFFSETTO:+0300
TZNAME:EEST
DTSTART:20240331T010000
END:DAYLIGHT
BEGIN:STANDARD
TZOFFSETFROM:+0300
TZOFFSETTO:+0200
TZNAME:EET
DTSTART:20241027T010000
END:STANDARD
BEGIN:DAYLIGHT
TZOFFSETFROM:+0200
TZOFFSETTO:+0300
TZNAME:EEST
DTSTART:20250330T010000
END:DAYLIGHT
BEGIN:STANDARD
TZOFFSETFROM:+0300
TZOFFSETTO:+0200
TZNAME:EET
DTSTART:20251026T010000
END:STANDARD
END:VTIMEZONE
BEGIN:VEVENT
DTSTART;TZID=Europe/Helsinki:20240329T140000
DTEND;TZID=Europe/Helsinki:20240530T173000
DTSTAMP:20260421T135457
CREATED:20240326T112404Z
LAST-MODIFIED:20240326T112629Z
UID:1805-1711720800-1717090200@www.vantaalla.info
SUMMARY:Lasten iltapäiväkerho
DESCRIPTION:Alakouluikäisille (7-12.v) lapsille suunnattu kerhotoiminta. Kerhossa on ohjattua toimintaa\, sisältää välipalan. Toiminta on maksutonta.
URL:https://www.vantaalla.info/tapahtuma/lasten-iltapaivakerho-2/
CATEGORIES:Viikkotoiminta
ATTACH;FMTTYPE=image/jpeg:https://www.vantaalla.info/wp-content/uploads/2024/02/1.jpg
END:VEVENT
BEGIN:VEVENT
DTSTART;TZID=Europe/Helsinki:20240510T123000
DTEND;TZID=Europe/Helsinki:20240510T140000
DTSTAMP:20260421T135457
CREATED:20240222T090401Z
LAST-MODIFIED:20240222T090428Z
UID:1735-1715344200-1715349600@www.vantaalla.info
SUMMARY:Käsityökerho
DESCRIPTION:Onko viimeisestä neulontatyöstä jo jonkin verran aikaa? Haluatko muuttaa vaatteen kokoa\, mutta et oikein tiedä miten se tapahtuu? Tai oletko jo edistyksellisempi ja etsit mukavaa samanhenkistä seuraa? Tule mukaan käsityökerhoon\, jossa neulontatyöt eivät jää tekemättä. Työt etenevät mukavan seuran ja rupattelun merkeissä. Osallistujille on tarjolla maksutta kahvia\, teetä ja pientä purtavaa.
URL:https://www.vantaalla.info/tapahtuma/kasityokerho-10-5-2024/
LOCATION:Kansalaistoiminnan Keskus Leinikki\, Leinikkitie 22 A\, Vantaa\, 01350
CATEGORIES:Viikkotoiminta
ATTACH;FMTTYPE=image/jpeg:https://www.vantaalla.info/wp-content/uploads/2024/02/kasityokerho-scaled.jpg
END:VEVENT
END:VCALENDAR