BEGIN:VCALENDAR
VERSION:2.0
PRODID:-// - ECPv6.15.20//NONSGML v1.0//EN
CALSCALE:GREGORIAN
METHOD:PUBLISH
X-ORIGINAL-URL:https://www.vantaalla.info
X-WR-CALDESC:Tapahtumat 
REFRESH-INTERVAL;VALUE=DURATION:PT1H
X-Robots-Tag:noindex
X-PUBLISHED-TTL:PT1H
BEGIN:VTIMEZONE
TZID:Europe/Helsinki
BEGIN:DAYLIGHT
TZOFFSETFROM:+0200
TZOFFSETTO:+0300
TZNAME:EEST
DTSTART:20230326T010000
END:DAYLIGHT
BEGIN:STANDARD
TZOFFSETFROM:+0300
TZOFFSETTO:+0200
TZNAME:EET
DTSTART:20231029T010000
END:STANDARD
BEGIN:DAYLIGHT
TZOFFSETFROM:+0200
TZOFFSETTO:+0300
TZNAME:EEST
DTSTART:20240331T010000
END:DAYLIGHT
BEGIN:STANDARD
TZOFFSETFROM:+0300
TZOFFSETTO:+0200
TZNAME:EET
DTSTART:20241027T010000
END:STANDARD
BEGIN:DAYLIGHT
TZOFFSETFROM:+0200
TZOFFSETTO:+0300
TZNAME:EEST
DTSTART:20250330T010000
END:DAYLIGHT
BEGIN:STANDARD
TZOFFSETFROM:+0300
TZOFFSETTO:+0200
TZNAME:EET
DTSTART:20251026T010000
END:STANDARD
END:VTIMEZONE
BEGIN:VEVENT
DTSTART;TZID=Europe/Helsinki:20241205T130000
DTEND;TZID=Europe/Helsinki:20241205T163000
DTSTAMP:20260421T013428
CREATED:20241121T103248Z
LAST-MODIFIED:20241121T103248Z
UID:2324-1733403600-1733416200@www.vantaalla.info
SUMMARY:Lasten iltapäiväkerho
DESCRIPTION:Vantaan Järjestörinki tarjoaa lapsille torstai-iltapäivisin ohjattua toimintaa lasten toiveita kuunnellen. Kerhon vastaavat ohjaajat ovat alan ammattilaisia. Toiminta on maksutonta sekä avointa\, jolloin erillisiä ilmoittautumisia ei tarvita. Tarjoamme lapsille myös maksuttoman välipalan!
URL:https://www.vantaalla.info/tapahtuma/lasten-iltapaivakerho-5-12-2024/
LOCATION:Kansalaistoiminnan Keskus Leinikki\, Leinikkitie 22 A\, Vantaa\, 01350
CATEGORIES:Viikkotoiminta
ATTACH;FMTTYPE=image/png:https://www.vantaalla.info/wp-content/uploads/2024/09/iltapaivakerho-min.png
END:VEVENT
BEGIN:VEVENT
DTSTART;TZID=Europe/Helsinki:20241212T130000
DTEND;TZID=Europe/Helsinki:20241212T163000
DTSTAMP:20260421T013428
CREATED:20241121T103520Z
LAST-MODIFIED:20241121T103520Z
UID:2326-1734008400-1734021000@www.vantaalla.info
SUMMARY:Lasten iltapäiväkerho
DESCRIPTION:Vantaan Järjestörinki tarjoaa lapsille torstai-iltapäivisin ohjattua toimintaa lasten toiveita kuunnellen. Kerhon vastaavat ohjaajat ovat alan ammattilaisia. Toiminta on maksutonta sekä avointa\, jolloin erillisiä ilmoittautumisia ei tarvita. Tarjoamme lapsille myös maksuttoman välipalan!
URL:https://www.vantaalla.info/tapahtuma/lasten-iltapaivakerho-12-12-2024/
CATEGORIES:Viikkotoiminta
ATTACH;FMTTYPE=image/png:https://www.vantaalla.info/wp-content/uploads/2024/09/iltapaivakerho-min.png
END:VEVENT
BEGIN:VEVENT
DTSTART;TZID=Europe/Helsinki:20241213T100000
DTEND;TZID=Europe/Helsinki:20241213T113000
DTSTAMP:20260421T013428
CREATED:20241121T102709Z
LAST-MODIFIED:20241121T102709Z
UID:2320-1734084000-1734089400@www.vantaalla.info
SUMMARY:Käsityökerho
DESCRIPTION:Onko viimeisestä neulontatyöstä jo jonkin verran aikaa? Haluatko muuttaa vaatteen kokoa\, mutta et oikein tiedä miten se tapahtuu? Tai oletko jo edistyksellisempi ja etsit mukavaa samanhenkistä seuraa? Tule mukaan käsityökerhoon\, jossa neulontatyöt eivät jää tekemättä. Työt etenevät mukavan seuran ja rupattelun merkeissä. Töitä voi lahjoittaa myös hyväntekeväisyyteen. Toimitamme pikkusukkia esimerkiksi keskolaan tai isompia neuletöitä asunnottomille. Osallistujille on tarjolla maksutta kahvia\, teetä ja pientä purtavaa. Käsityökerho toteutetaan yhteistyössä Hyvät Tuulet ry:n kanssa.
URL:https://www.vantaalla.info/tapahtuma/kasityokerho-13-12-2024/
LOCATION:Kansalaistoiminnan Keskus Leinikki\, Leinikkitie 22 A\, Vantaa\, 01350
CATEGORIES:Viikkotoiminta
ATTACH;FMTTYPE=image/png:https://www.vantaalla.info/wp-content/uploads/2024/09/kasityokerho.png
END:VEVENT
BEGIN:VEVENT
DTSTART;TZID=Europe/Helsinki:20241219T130000
DTEND;TZID=Europe/Helsinki:20241219T163000
DTSTAMP:20260421T013428
CREATED:20241121T103720Z
LAST-MODIFIED:20241121T103720Z
UID:2328-1734613200-1734625800@www.vantaalla.info
SUMMARY:Lasten iltapäiväkerho
DESCRIPTION:Vantaan Järjestörinki tarjoaa lapsille torstai-iltapäivisin ohjattua toimintaa lasten toiveita kuunnellen. Kerhon vastaavat ohjaajat ovat alan ammattilaisia. Toiminta on maksutonta sekä avointa\, jolloin erillisiä ilmoittautumisia ei tarvita. Tarjoamme lapsille myös maksuttoman välipalan!
URL:https://www.vantaalla.info/tapahtuma/lasten-iltapaivakerho-19-12-2024/
LOCATION:Kansalaistoiminnan Keskus Leinikki\, Leinikkitie 22 A\, Vantaa\, 01350
CATEGORIES:Viikkotoiminta
ATTACH;FMTTYPE=image/png:https://www.vantaalla.info/wp-content/uploads/2024/09/iltapaivakerho-min.png
END:VEVENT
BEGIN:VEVENT
DTSTART;TZID=Europe/Helsinki:20241220T100000
DTEND;TZID=Europe/Helsinki:20241220T113000
DTSTAMP:20260421T013428
CREATED:20241121T102926Z
LAST-MODIFIED:20241121T102926Z
UID:2322-1734688800-1734694200@www.vantaalla.info
SUMMARY:Käsityökerho
DESCRIPTION:Onko viimeisestä neulontatyöstä jo jonkin verran aikaa? Haluatko muuttaa vaatteen kokoa\, mutta et oikein tiedä miten se tapahtuu? Tai oletko jo edistyksellisempi ja etsit mukavaa samanhenkistä seuraa? Tule mukaan käsityökerhoon\, jossa neulontatyöt eivät jää tekemättä. Työt etenevät mukavan seuran ja rupattelun merkeissä. Töitä voi lahjoittaa myös hyväntekeväisyyteen. Toimitamme pikkusukkia esimerkiksi keskolaan tai isompia neuletöitä asunnottomille. Osallistujille on tarjolla maksutta kahvia\, teetä ja pientä purtavaa. Käsityökerho toteutetaan yhteistyössä Hyvät Tuulet ry:n kanssa.
URL:https://www.vantaalla.info/tapahtuma/kasityokerho-20-12-2024/
LOCATION:Kansalaistoiminnan Keskus Leinikki\, Leinikkitie 22 A\, Vantaa\, 01350
CATEGORIES:Viikkotoiminta
ATTACH;FMTTYPE=image/png:https://www.vantaalla.info/wp-content/uploads/2024/09/kasityokerho.png
END:VEVENT
END:VCALENDAR