BEGIN:VCALENDAR
VERSION:2.0
PRODID:-// - ECPv6.15.20//NONSGML v1.0//EN
CALSCALE:GREGORIAN
METHOD:PUBLISH
X-ORIGINAL-URL:https://www.vantaalla.info
X-WR-CALDESC:Tapahtumat 
REFRESH-INTERVAL;VALUE=DURATION:PT1H
X-Robots-Tag:noindex
X-PUBLISHED-TTL:PT1H
BEGIN:VTIMEZONE
TZID:Europe/Helsinki
BEGIN:DAYLIGHT
TZOFFSETFROM:+0200
TZOFFSETTO:+0300
TZNAME:EEST
DTSTART:20230326T010000
END:DAYLIGHT
BEGIN:STANDARD
TZOFFSETFROM:+0300
TZOFFSETTO:+0200
TZNAME:EET
DTSTART:20231029T010000
END:STANDARD
BEGIN:DAYLIGHT
TZOFFSETFROM:+0200
TZOFFSETTO:+0300
TZNAME:EEST
DTSTART:20240331T010000
END:DAYLIGHT
BEGIN:STANDARD
TZOFFSETFROM:+0300
TZOFFSETTO:+0200
TZNAME:EET
DTSTART:20241027T010000
END:STANDARD
BEGIN:DAYLIGHT
TZOFFSETFROM:+0200
TZOFFSETTO:+0300
TZNAME:EEST
DTSTART:20250330T010000
END:DAYLIGHT
BEGIN:STANDARD
TZOFFSETFROM:+0300
TZOFFSETTO:+0200
TZNAME:EET
DTSTART:20251026T010000
END:STANDARD
END:VTIMEZONE
BEGIN:VEVENT
DTSTART;TZID=Europe/Helsinki:20241004T100000
DTEND;TZID=Europe/Helsinki:20241004T113000
DTSTAMP:20260421T044027
CREATED:20240917T103510Z
LAST-MODIFIED:20240917T103525Z
UID:2098-1728036000-1728041400@www.vantaalla.info
SUMMARY:Käsityökerho
DESCRIPTION:Onko viimeisestä neulontatyöstä jo jonkin verran aikaa? Haluatko muuttaa vaatteen kokoa\, mutta et oikein tiedä miten se tapahtuu? Tai oletko jo edistyksellisempi ja etsit mukavaa samanhenkistä seuraa? Tule mukaan käsityökerhoon\, jossa neulontatyöt eivät jää tekemättä. Työt etenevät mukavan seuran ja rupattelun merkeissä. Töitä voi lahjoittaa myös hyväntekeväisyyteen. Toimitamme pikkusukkia esimerkiksi keskolaan tai isompia neuletöitä asunnottomille. Osallistujille on tarjolla maksutta kahvia\, teetä ja pientä purtavaa. Käsityökerho toteutetaan yhteistyössä Hyvät Tuulet ry:n kanssa.
URL:https://www.vantaalla.info/tapahtuma/kasityokerho-4-10-2024/
LOCATION:Kansalaistoiminnan Keskus Leinikki\, Leinikkitie 22 A\, Vantaa\, 01350
CATEGORIES:Viikkotoiminta
ATTACH;FMTTYPE=image/png:https://www.vantaalla.info/wp-content/uploads/2024/09/kasityokerho.png
END:VEVENT
BEGIN:VEVENT
DTSTART;TZID=Europe/Helsinki:20241011T100000
DTEND;TZID=Europe/Helsinki:20241011T113000
DTSTAMP:20260421T044027
CREATED:20240917T103739Z
LAST-MODIFIED:20240917T103739Z
UID:2100-1728640800-1728646200@www.vantaalla.info
SUMMARY:Käsityökerho
DESCRIPTION:Onko viimeisestä neulontatyöstä jo jonkin verran aikaa? Haluatko muuttaa vaatteen kokoa\, mutta et oikein tiedä miten se tapahtuu? Tai oletko jo edistyksellisempi ja etsit mukavaa samanhenkistä seuraa? Tule mukaan käsityökerhoon\, jossa neulontatyöt eivät jää tekemättä. Työt etenevät mukavan seuran ja rupattelun merkeissä. Töitä voi lahjoittaa myös hyväntekeväisyyteen. Toimitamme pikkusukkia esimerkiksi keskolaan tai isompia neuletöitä asunnottomille. Osallistujille on tarjolla maksutta kahvia\, teetä ja pientä purtavaa. Käsityökerho toteutetaan yhteistyössä Hyvät Tuulet ry:n kanssa.
URL:https://www.vantaalla.info/tapahtuma/kasityokerho-11-10-2024/
LOCATION:Kansalaistoiminnan Keskus Leinikki\, Leinikkitie 22 A\, Vantaa\, 01350
CATEGORIES:Viikkotoiminta
ATTACH;FMTTYPE=image/png:https://www.vantaalla.info/wp-content/uploads/2024/09/kasityokerho.png
END:VEVENT
BEGIN:VEVENT
DTSTART;TZID=Europe/Helsinki:20241017T130000
DTEND;TZID=Europe/Helsinki:20241017T163000
DTSTAMP:20260421T044027
CREATED:20240917T101655Z
LAST-MODIFIED:20240917T101655Z
UID:2087-1729170000-1729182600@www.vantaalla.info
SUMMARY:Lasten iltapäiväkerho
DESCRIPTION:Vantaan Järjestörinki tarjoaa lapsille torstai-iltapäivisin ohjattua toimintaa lasten toiveita kuunnellen. Kerhon vastaavat ohjaajat ovat alan ammattilaisia. Toiminta on maksutonta sekä avointa\, jolloin erillisiä ilmoittautumisia ei tarvita. Tarjoamme lapsille myös maksuttoman välipalan!
URL:https://www.vantaalla.info/tapahtuma/lasten-iltapaivakerho-17-10-2024/
LOCATION:Kansalaistoiminnan Keskus Leinikki\, Leinikkitie 22 A\, Vantaa\, 01350
CATEGORIES:Viikkotoiminta
ATTACH;FMTTYPE=image/png:https://www.vantaalla.info/wp-content/uploads/2024/09/iltapaivakerho-min.png
END:VEVENT
BEGIN:VEVENT
DTSTART;TZID=Europe/Helsinki:20241018T100000
DTEND;TZID=Europe/Helsinki:20241018T113000
DTSTAMP:20260421T044027
CREATED:20240917T104710Z
LAST-MODIFIED:20240917T104710Z
UID:2102-1729245600-1729251000@www.vantaalla.info
SUMMARY:Käsityökerho
DESCRIPTION:Onko viimeisestä neulontatyöstä jo jonkin verran aikaa? Haluatko muuttaa vaatteen kokoa\, mutta et oikein tiedä miten se tapahtuu? Tai oletko jo edistyksellisempi ja etsit mukavaa samanhenkistä seuraa? Tule mukaan käsityökerhoon\, jossa neulontatyöt eivät jää tekemättä. Työt etenevät mukavan seuran ja rupattelun merkeissä. Töitä voi lahjoittaa myös hyväntekeväisyyteen. Toimitamme pikkusukkia esimerkiksi keskolaan tai isompia neuletöitä asunnottomille. Osallistujille on tarjolla maksutta kahvia\, teetä ja pientä purtavaa. Käsityökerho toteutetaan yhteistyössä Hyvät Tuulet ry:n kanssa.
URL:https://www.vantaalla.info/tapahtuma/kasityokerho-18-10-2024/
LOCATION:Kansalaistoiminnan Keskus Leinikki\, Leinikkitie 22 A\, Vantaa\, 01350
CATEGORIES:Viikkotoiminta
ATTACH;FMTTYPE=image/png:https://www.vantaalla.info/wp-content/uploads/2024/09/kasityokerho.png
END:VEVENT
BEGIN:VEVENT
DTSTART;TZID=Europe/Helsinki:20241024T130000
DTEND;TZID=Europe/Helsinki:20241024T163000
DTSTAMP:20260421T044027
CREATED:20240917T101942Z
LAST-MODIFIED:20240917T101942Z
UID:2089-1729774800-1729787400@www.vantaalla.info
SUMMARY:Lasten iltapäiväkerho
DESCRIPTION:Vantaan Järjestörinki tarjoaa lapsille torstai-iltapäivisin ohjattua toimintaa lasten toiveita kuunnellen. Kerhon vastaavat ohjaajat ovat alan ammattilaisia. Toiminta on maksutonta sekä avointa\, jolloin erillisiä ilmoittautumisia ei tarvita. Tarjoamme lapsille myös maksuttoman välipalan!
URL:https://www.vantaalla.info/tapahtuma/lasten-iltapaivakerho-24-10-2024/
LOCATION:Kansalaistoiminnan Keskus Leinikki\, Leinikkitie 22 A\, Vantaa\, 01350
CATEGORIES:Viikkotoiminta
ATTACH;FMTTYPE=image/png:https://www.vantaalla.info/wp-content/uploads/2024/09/iltapaivakerho-min.png
END:VEVENT
BEGIN:VEVENT
DTSTART;TZID=Europe/Helsinki:20241025T100000
DTEND;TZID=Europe/Helsinki:20241025T113000
DTSTAMP:20260421T044027
CREATED:20240917T104923Z
LAST-MODIFIED:20240917T104923Z
UID:2104-1729850400-1729855800@www.vantaalla.info
SUMMARY:Käsityökerho
DESCRIPTION:Onko viimeisestä neulontatyöstä jo jonkin verran aikaa? Haluatko muuttaa vaatteen kokoa\, mutta et oikein tiedä miten se tapahtuu? Tai oletko jo edistyksellisempi ja etsit mukavaa samanhenkistä seuraa? Tule mukaan käsityökerhoon\, jossa neulontatyöt eivät jää tekemättä. Työt etenevät mukavan seuran ja rupattelun merkeissä. Töitä voi lahjoittaa myös hyväntekeväisyyteen. Toimitamme pikkusukkia esimerkiksi keskolaan tai isompia neuletöitä asunnottomille. Osallistujille on tarjolla maksutta kahvia\, teetä ja pientä purtavaa. Käsityökerho toteutetaan yhteistyössä Hyvät Tuulet ry:n kanssa.
URL:https://www.vantaalla.info/tapahtuma/kasityokerho-25-10-2024/
LOCATION:Kansalaistoiminnan Keskus Leinikki\, Leinikkitie 22 A\, Vantaa\, 01350
CATEGORIES:Viikkotoiminta
ATTACH;FMTTYPE=image/png:https://www.vantaalla.info/wp-content/uploads/2024/09/kasityokerho.png
END:VEVENT
BEGIN:VEVENT
DTSTART;TZID=Europe/Helsinki:20241031T130000
DTEND;TZID=Europe/Helsinki:20241031T163000
DTSTAMP:20260421T044027
CREATED:20240917T102126Z
LAST-MODIFIED:20240917T102126Z
UID:2091-1730379600-1730392200@www.vantaalla.info
SUMMARY:Lasten iltapäiväkerho
DESCRIPTION:Vantaan Järjestörinki tarjoaa lapsille torstai-iltapäivisin ohjattua toimintaa lasten toiveita kuunnellen. Kerhon vastaavat ohjaajat ovat alan ammattilaisia. Toiminta on maksutonta sekä avointa\, jolloin erillisiä ilmoittautumisia ei tarvita. Tarjoamme lapsille myös maksuttoman välipalan!
URL:https://www.vantaalla.info/tapahtuma/lasten-iltapaivakerho-31-10-2024/
LOCATION:Kansalaistoiminnan Keskus Leinikki\, Leinikkitie 22 A\, Vantaa\, 01350
CATEGORIES:Viikkotoiminta
ATTACH;FMTTYPE=image/png:https://www.vantaalla.info/wp-content/uploads/2024/09/iltapaivakerho-min.png
END:VEVENT
END:VCALENDAR