BEGIN:VCALENDAR
VERSION:2.0
PRODID:-// - ECPv6.15.20//NONSGML v1.0//EN
CALSCALE:GREGORIAN
METHOD:PUBLISH
X-ORIGINAL-URL:https://www.vantaalla.info
X-WR-CALDESC:Tapahtumat 
REFRESH-INTERVAL;VALUE=DURATION:PT1H
X-Robots-Tag:noindex
X-PUBLISHED-TTL:PT1H
BEGIN:VTIMEZONE
TZID:Europe/Helsinki
BEGIN:DAYLIGHT
TZOFFSETFROM:+0200
TZOFFSETTO:+0300
TZNAME:EEST
DTSTART:20240331T010000
END:DAYLIGHT
BEGIN:STANDARD
TZOFFSETFROM:+0300
TZOFFSETTO:+0200
TZNAME:EET
DTSTART:20241027T010000
END:STANDARD
BEGIN:DAYLIGHT
TZOFFSETFROM:+0200
TZOFFSETTO:+0300
TZNAME:EEST
DTSTART:20250330T010000
END:DAYLIGHT
BEGIN:STANDARD
TZOFFSETFROM:+0300
TZOFFSETTO:+0200
TZNAME:EET
DTSTART:20251026T010000
END:STANDARD
BEGIN:DAYLIGHT
TZOFFSETFROM:+0200
TZOFFSETTO:+0300
TZNAME:EEST
DTSTART:20260329T010000
END:DAYLIGHT
BEGIN:STANDARD
TZOFFSETFROM:+0300
TZOFFSETTO:+0200
TZNAME:EET
DTSTART:20261025T010000
END:STANDARD
END:VTIMEZONE
BEGIN:VEVENT
DTSTART;TZID=Europe/Helsinki:20251207T100000
DTEND;TZID=Europe/Helsinki:20251207T130000
DTSTAMP:20260420T040030
CREATED:20251111T084918Z
LAST-MODIFIED:20251111T085324Z
UID:4910-1765101600-1765112400@www.vantaalla.info
SUMMARY:Puistokulman Joulutori
DESCRIPTION:Vantaan Järjestörinki ja Puistokulma kutsuvat kaikki mukaan tunnelmallisiin joulumyyjäisiin!\nTule nauttimaan lämminhenkisestä tunnelmasta ja katsomaan mitä  käsitöitä\, herkkuja taikka lahjaideoita myyjäisissä on tarjolla! \nMyyjäisten lisäksi Puistokulman ravintolassa voit nauttia herkullista Puistokulman joulupuuroa sopuisaan hintaan ja\nperheen pienimmille löytyy Puistokulman alakerrasta lasten jouluinen puuhamaa!
URL:https://www.vantaalla.info/tapahtuma/puistokulman-joulutori-7-12-2025/
LOCATION:Puistokulma\, Talkootie 4\, Vantaa
ATTACH;FMTTYPE=image/jpeg:https://www.vantaalla.info/wp-content/uploads/2025/11/Joulutori-INSTAGRAM-POSTAUS.jpg
ORGANIZER;CN="Vantaan J%C3%A4rjest%C3%B6rinki ry":MAILTO:toimisto@vantaalla.info
END:VEVENT
END:VCALENDAR