BEGIN:VCALENDAR
VERSION:2.0
PRODID:-// - ECPv6.15.20//NONSGML v1.0//EN
CALSCALE:GREGORIAN
METHOD:PUBLISH
X-ORIGINAL-URL:https://www.vantaalla.info
X-WR-CALDESC:Tapahtumat 
REFRESH-INTERVAL;VALUE=DURATION:PT1H
X-Robots-Tag:noindex
X-PUBLISHED-TTL:PT1H
BEGIN:VTIMEZONE
TZID:Europe/Helsinki
BEGIN:DAYLIGHT
TZOFFSETFROM:+0200
TZOFFSETTO:+0300
TZNAME:EEST
DTSTART:20230326T010000
END:DAYLIGHT
BEGIN:STANDARD
TZOFFSETFROM:+0300
TZOFFSETTO:+0200
TZNAME:EET
DTSTART:20231029T010000
END:STANDARD
BEGIN:DAYLIGHT
TZOFFSETFROM:+0200
TZOFFSETTO:+0300
TZNAME:EEST
DTSTART:20240331T010000
END:DAYLIGHT
BEGIN:STANDARD
TZOFFSETFROM:+0300
TZOFFSETTO:+0200
TZNAME:EET
DTSTART:20241027T010000
END:STANDARD
BEGIN:DAYLIGHT
TZOFFSETFROM:+0200
TZOFFSETTO:+0300
TZNAME:EEST
DTSTART:20250330T010000
END:DAYLIGHT
BEGIN:STANDARD
TZOFFSETFROM:+0300
TZOFFSETTO:+0200
TZNAME:EET
DTSTART:20251026T010000
END:STANDARD
END:VTIMEZONE
BEGIN:VEVENT
DTSTART;TZID=Europe/Helsinki:20241218T133000
DTEND;TZID=Europe/Helsinki:20241218T143000
DTSTAMP:20260420T225617
CREATED:20241121T085305Z
LAST-MODIFIED:20241121T110459Z
UID:2305-1734528600-1734532200@www.vantaalla.info
SUMMARY:Kauneimmat joululaulut
DESCRIPTION:”Joulu on taas\, riemuitkaa nyt!”\nTule laulamaan tai kuuntelemaan joululauluja ja tunnelmoimaan joulua!\nEnnen lauluja tarjolla ruokaa ja kahvia. Tervetuloa!
URL:https://www.vantaalla.info/tapahtuma/kauneimmat-joululaulut-18-12-2024/
LOCATION:Kansalaistoiminnan Keskus Leinikki\, Leinikkitie 22 A\, Vantaa\, 01350
CATEGORIES:Viikkotoiminta
ATTACH;FMTTYPE=image/png:https://www.vantaalla.info/wp-content/uploads/2024/11/Joululaulut-mainos-min.png
END:VEVENT
END:VCALENDAR